Package: midasHLA Version: 1.19.0 Command: /home/biocbuild/bbs-3.23-bioc/R/bin/R CMD build --keep-empty-dirs --no-resave-data midasHLA StartedAt: 2025-11-05 18:41:54 -0500 (Wed, 05 Nov 2025) EndedAt: 2025-11-05 18:44:00 -0500 (Wed, 05 Nov 2025) EllapsedTime: 125.1 seconds RetCode: 0 Status: OK PackageFile: midasHLA_1.19.0.tar.gz PackageFileSize: 1.891 MiB