Package: midasHLA Version: 1.17.0 Command: /Library/Frameworks/R.framework/Resources/bin/R CMD INSTALL midasHLA StartedAt: 2025-10-03 15:22:45 -0400 (Fri, 03 Oct 2025) EndedAt: 2025-10-03 15:23:33 -0400 (Fri, 03 Oct 2025) EllapsedTime: 47.6 seconds RetCode: 0 Status: OK