Package: midasHLA Version: 1.17.0 Command: /Library/Frameworks/R.framework/Resources/bin/R CMD build --keep-empty-dirs --no-resave-data midasHLA StartedAt: 2025-10-03 17:51:20 -0400 (Fri, 03 Oct 2025) EndedAt: 2025-10-03 17:54:19 -0400 (Fri, 03 Oct 2025) EllapsedTime: 179.0 seconds RetCode: 0 Status: OK PackageFile: midasHLA_1.17.0.tar.gz PackageFileSize: 1.895 MiB