Package: midasHLA Version: 1.17.0 Command: rm -rf midasHLA.buildbin-libdir && mkdir midasHLA.buildbin-libdir && /Users/biocbuild/BBS/utils/build-universal.sh midasHLA_1.17.0.tar.gz /Library/Frameworks/R.framework/Resources/bin/R midasHLA.buildbin-libdir StartedAt: 2025-10-04 02:15:21 -0400 (Sat, 04 Oct 2025) EndedAt: 2025-10-04 02:16:11 -0400 (Sat, 04 Oct 2025) EllapsedTime: 49.8 seconds RetCode: 0 Status: OK PackageFile: midasHLA_1.17.0.tgz PackageFileSize: 2.847 MiB