Package: midasHLA Version: 1.17.0 Command: /Library/Frameworks/R.framework/Resources/bin/R CMD build --keep-empty-dirs --no-resave-data midasHLA StartedAt: 2025-09-21 16:58:58 -0400 (Sun, 21 Sep 2025) EndedAt: 2025-09-21 16:59:59 -0400 (Sun, 21 Sep 2025) EllapsedTime: 60.7 seconds RetCode: 0 Status: OK PackageFile: midasHLA_1.17.0.tar.gz PackageFileSize: 1.894 MiB