Package: microbiomeExplorer Version: 1.19.0 Command: /home/biocbuild/R/R/bin/R CMD INSTALL microbiomeExplorer StartedAt: 2025-10-16 21:37:59 -0000 (Thu, 16 Oct 2025) EndedAt: 2025-10-16 21:38:16 -0000 (Thu, 16 Oct 2025) EllapsedTime: 16.2 seconds RetCode: 0 Status: OK