Package: microbiomeExplorer Version: 1.19.0 Command: /home/biocbuild/bbs-3.22-bioc/R/bin/R CMD check --install=check:microbiomeExplorer.install-out.txt --library=/home/biocbuild/bbs-3.22-bioc/R/site-library --timings microbiomeExplorer_1.19.0.tar.gz StartedAt: 2025-10-14 01:59:57 -0400 (Tue, 14 Oct 2025) EndedAt: 2025-10-14 02:02:07 -0400 (Tue, 14 Oct 2025) EllapsedTime: 130.1 seconds RetCode: 0 Status: OK CheckDir: microbiomeExplorer.Rcheck Warnings: 0