Package: microbiomeExplorer Version: 1.21.0 Command: /home/biocbuild/bbs-3.23-bioc/R/bin/R CMD check --install=check:microbiomeExplorer.install-out.txt --library=/home/biocbuild/bbs-3.23-bioc/R/site-library --timings microbiomeExplorer_1.21.0.tar.gz StartedAt: 2025-11-24 01:20:32 -0500 (Mon, 24 Nov 2025) EndedAt: 2025-11-24 01:22:44 -0500 (Mon, 24 Nov 2025) EllapsedTime: 132.1 seconds RetCode: 0 Status: OK CheckDir: microbiomeExplorer.Rcheck Warnings: 0