Package: microbiomeExplorer Version: 1.21.0 Command: /home/biocbuild/bbs-3.23-bioc/R/bin/R CMD build --keep-empty-dirs --no-resave-data microbiomeExplorer StartedAt: 2025-11-04 18:33:51 -0500 (Tue, 04 Nov 2025) EndedAt: 2025-11-04 18:34:28 -0500 (Tue, 04 Nov 2025) EllapsedTime: 37.0 seconds RetCode: 0 Status: OK PackageFile: microbiomeExplorer_1.21.0.tar.gz PackageFileSize: 2.976 MiB