Package: microbiomeDASim Version: 1.23.0 Command: /home/biocbuild/R/R/bin/R CMD INSTALL microbiomeDASim StartedAt: 2025-09-29 20:50:10 -0000 (Mon, 29 Sep 2025) EndedAt: 2025-09-29 20:50:36 -0000 (Mon, 29 Sep 2025) EllapsedTime: 26.9 seconds RetCode: 0 Status: OK