Package: microbiomeDASim Version: 1.23.0 Command: /home/biocbuild/R/R/bin/R CMD build --keep-empty-dirs --no-resave-data microbiomeDASim StartedAt: 2025-09-30 01:27:01 -0000 (Tue, 30 Sep 2025) EndedAt: 2025-09-30 01:28:01 -0000 (Tue, 30 Sep 2025) EllapsedTime: 60.0 seconds RetCode: 0 Status: OK PackageFile: microbiomeDASim_1.23.0.tar.gz PackageFileSize: 1.491 MiB