Package: microbiomeDASim Version: 1.25.0 Command: /home/biocbuild/bbs-3.23-bioc/R/bin/R CMD INSTALL microbiomeDASim StartedAt: 2025-11-20 15:17:20 -0500 (Thu, 20 Nov 2025) EndedAt: 2025-11-20 15:17:40 -0500 (Thu, 20 Nov 2025) EllapsedTime: 20.2 seconds RetCode: 0 Status: OK