Package: microbiomeDASim Version: 1.25.0 Command: /home/biocbuild/bbs-3.23-bioc/R/bin/R CMD check --install=check:microbiomeDASim.install-out.txt --library=/home/biocbuild/bbs-3.23-bioc/R/site-library --timings microbiomeDASim_1.25.0.tar.gz StartedAt: 2025-11-21 01:23:02 -0500 (Fri, 21 Nov 2025) EndedAt: 2025-11-21 01:26:52 -0500 (Fri, 21 Nov 2025) EllapsedTime: 230.3 seconds RetCode: 0 Status: OK CheckDir: microbiomeDASim.Rcheck Warnings: 0