Package: microbiomeDASim Version: 1.23.0 Command: rm -rf microbiomeDASim.buildbin-libdir && mkdir microbiomeDASim.buildbin-libdir && /Users/biocbuild/BBS/utils/build-universal.sh microbiomeDASim_1.23.0.tar.gz /Library/Frameworks/R.framework/Resources/bin/R microbiomeDASim.buildbin-libdir StartedAt: 2025-09-30 22:46:31 -0400 (Tue, 30 Sep 2025) EndedAt: 2025-09-30 22:46:40 -0400 (Tue, 30 Sep 2025) EllapsedTime: 9.2 seconds RetCode: 0 Status: OK PackageFile: microbiomeDASim_1.23.0.tgz PackageFileSize: 1.571 MiB