Package: microbiome Version: 1.33.0 Command: /home/biocbuild/bbs-3.23-bioc/R/bin/R CMD INSTALL microbiome StartedAt: 2025-11-23 15:18:55 -0500 (Sun, 23 Nov 2025) EndedAt: 2025-11-23 15:19:17 -0500 (Sun, 23 Nov 2025) EllapsedTime: 22.6 seconds RetCode: 0 Status: OK