Package: microbiome Version: 1.33.0 Command: /home/biocbuild/bbs-3.23-bioc/R/bin/R CMD build --keep-empty-dirs --no-resave-data microbiome StartedAt: 2025-11-23 18:39:56 -0500 (Sun, 23 Nov 2025) EndedAt: 2025-11-23 18:40:30 -0500 (Sun, 23 Nov 2025) EllapsedTime: 34.0 seconds RetCode: 0 Status: OK PackageFile: microbiome_1.33.0.tar.gz PackageFileSize: 714 KiB