Package: microbiome Version: 1.33.0 Command: /Library/Frameworks/R.framework/Resources/bin/R CMD INSTALL microbiome StartedAt: 2025-11-20 15:08:31 -0500 (Thu, 20 Nov 2025) EndedAt: 2025-11-20 15:08:40 -0500 (Thu, 20 Nov 2025) EllapsedTime: 8.5 seconds RetCode: 0 Status: OK