Package: microSTASIS Version: 1.9.0 Command: /home/biocbuild/R/R/bin/R CMD INSTALL microSTASIS StartedAt: 2025-10-09 21:18:24 -0000 (Thu, 09 Oct 2025) EndedAt: 2025-10-09 21:18:27 -0000 (Thu, 09 Oct 2025) EllapsedTime: 3.2 seconds RetCode: 0 Status: OK