Package: microSTASIS Version: 1.9.0 Command: /home/biocbuild/R/R/bin/R CMD build --keep-empty-dirs --no-resave-data microSTASIS StartedAt: 2025-10-10 02:09:14 -0000 (Fri, 10 Oct 2025) EndedAt: 2025-10-10 02:10:52 -0000 (Fri, 10 Oct 2025) EllapsedTime: 98.1 seconds RetCode: 0 Status: OK PackageFile: microSTASIS_1.9.0.tar.gz PackageFileSize: 827.1 KiB