Package: microSTASIS Version: 1.11.0 Command: /home/biocbuild/bbs-3.23-bioc/R/bin/R CMD INSTALL microSTASIS StartedAt: 2025-11-05 15:31:28 -0500 (Wed, 05 Nov 2025) EndedAt: 2025-11-05 15:31:31 -0500 (Wed, 05 Nov 2025) EllapsedTime: 2.7 seconds RetCode: 0 Status: OK