Package: microSTASIS Version: 1.11.0 Command: /home/biocbuild/bbs-3.23-bioc/R/bin/R CMD check --install=check:microSTASIS.install-out.txt --library=/home/biocbuild/bbs-3.23-bioc/R/site-library --timings microSTASIS_1.11.0.tar.gz StartedAt: 2025-11-07 01:10:45 -0500 (Fri, 07 Nov 2025) EndedAt: 2025-11-07 01:16:12 -0500 (Fri, 07 Nov 2025) EllapsedTime: 327.4 seconds RetCode: 1 Status: ERROR CheckDir: microSTASIS.Rcheck Warnings: NA