Package: microSTASIS Version: 1.11.0 Command: /home/biocbuild/bbs-3.23-bioc/R/bin/R CMD build --keep-empty-dirs --no-resave-data microSTASIS StartedAt: 2025-11-04 18:34:30 -0500 (Tue, 04 Nov 2025) EndedAt: 2025-11-04 18:35:40 -0500 (Tue, 04 Nov 2025) EllapsedTime: 70.1 seconds RetCode: 0 Status: OK PackageFile: microSTASIS_1.11.0.tar.gz PackageFileSize: 1.287 MiB