Package: microRNA Version: 1.67.0 Command: /home/biocbuild/R/R/bin/R CMD INSTALL microRNA StartedAt: 2025-10-16 21:27:55 -0000 (Thu, 16 Oct 2025) EndedAt: 2025-10-16 21:28:10 -0000 (Thu, 16 Oct 2025) EllapsedTime: 14.5 seconds RetCode: 0 Status: OK