Package: microRNA Version: 1.69.0 Command: /home/biocbuild/bbs-3.23-bioc/R/bin/R CMD INSTALL microRNA StartedAt: 2025-11-04 15:14:14 -0500 (Tue, 04 Nov 2025) EndedAt: 2025-11-04 15:14:25 -0500 (Tue, 04 Nov 2025) EllapsedTime: 11.2 seconds RetCode: 0 Status: OK