Package: miaViz Version: 1.19.0 Command: /home/biocbuild/bbs-3.23-bioc/R/bin/R CMD INSTALL miaViz StartedAt: 2025-11-06 15:56:00 -0500 (Thu, 06 Nov 2025) EndedAt: 2025-11-06 15:56:46 -0500 (Thu, 06 Nov 2025) EllapsedTime: 46.8 seconds RetCode: 0 Status: OK