Package: miaViz Version: 1.19.0 Command: /home/biocbuild/bbs-3.23-bioc/R/bin/R CMD build --keep-empty-dirs --no-resave-data miaViz StartedAt: 2025-11-06 18:33:51 -0500 (Thu, 06 Nov 2025) EndedAt: 2025-11-06 18:35:37 -0500 (Thu, 06 Nov 2025) EllapsedTime: 106.1 seconds RetCode: 0 Status: OK PackageFile: miaViz_1.19.0.tar.gz PackageFileSize: 3.724 MiB