Package: miaViz Version: 1.17.10 Command: /Library/Frameworks/R.framework/Resources/bin/R CMD build --keep-empty-dirs --no-resave-data miaViz StartedAt: 2025-10-26 17:12:07 -0400 (Sun, 26 Oct 2025) EndedAt: 2025-10-26 17:12:48 -0400 (Sun, 26 Oct 2025) EllapsedTime: 41.5 seconds RetCode: 0 Status: OK PackageFile: miaViz_1.17.10.tar.gz PackageFileSize: 3.415 MiB