Package: miaTime Version: 1.1.0 Command: /home/biocbuild/bbs-3.23-bioc/R/bin/R CMD INSTALL miaTime StartedAt: 2025-11-20 15:56:07 -0500 (Thu, 20 Nov 2025) EndedAt: 2025-11-20 15:56:49 -0500 (Thu, 20 Nov 2025) EllapsedTime: 42.2 seconds RetCode: 0 Status: OK