Package: miaTime Version: 1.0.0 Command: /Library/Frameworks/R.framework/Resources/bin/R CMD INSTALL miaTime StartedAt: 2025-10-29 22:31:01 -0400 (Wed, 29 Oct 2025) EndedAt: 2025-10-29 22:31:58 -0400 (Wed, 29 Oct 2025) EllapsedTime: 57.7 seconds RetCode: 0 Status: OK