Package: miaTime Version: 1.0.0 Command: rm -rf miaTime.buildbin-libdir && mkdir miaTime.buildbin-libdir && /Users/biocbuild/BBS/utils/build-universal.sh miaTime_1.0.0.tar.gz /Library/Frameworks/R.framework/Resources/bin/R miaTime.buildbin-libdir StartedAt: 2025-10-30 08:25:02 -0400 (Thu, 30 Oct 2025) EndedAt: 2025-10-30 08:26:02 -0400 (Thu, 30 Oct 2025) EllapsedTime: 59.9 seconds RetCode: 0 Status: OK PackageFile: miaTime_1.0.0.tgz PackageFileSize: 6.431 MiB