Package: miaTime Version: 0.99.12 Command: /Library/Frameworks/R.framework/Resources/bin/R CMD INSTALL miaTime StartedAt: 2025-10-14 15:30:37 -0400 (Tue, 14 Oct 2025) EndedAt: 2025-10-14 15:30:54 -0400 (Tue, 14 Oct 2025) EllapsedTime: 17.8 seconds RetCode: 0 Status: OK