Package: miaSim Version: 1.17.0 Command: /home/biocbuild/bbs-3.23-bioc/R/bin/R CMD build --keep-empty-dirs --no-resave-data miaSim StartedAt: 2025-11-20 18:38:59 -0500 (Thu, 20 Nov 2025) EndedAt: 2025-11-20 18:39:46 -0500 (Thu, 20 Nov 2025) EllapsedTime: 47.0 seconds RetCode: 0 Status: OK PackageFile: miaSim_1.17.0.tar.gz PackageFileSize: 392.5 KiB