Package: miaSim Version: 1.15.1 Command: /Library/Frameworks/R.framework/Resources/bin/R CMD INSTALL miaSim StartedAt: 2025-10-27 15:25:28 -0400 (Mon, 27 Oct 2025) EndedAt: 2025-10-27 15:26:07 -0400 (Mon, 27 Oct 2025) EllapsedTime: 39.3 seconds RetCode: 0 Status: OK