Package: miaSim Version: 1.15.1 Command: /Library/Frameworks/R.framework/Resources/bin/R CMD build --keep-empty-dirs --no-resave-data miaSim StartedAt: 2025-10-24 17:47:15 -0400 (Fri, 24 Oct 2025) EndedAt: 2025-10-24 17:48:13 -0400 (Fri, 24 Oct 2025) EllapsedTime: 57.2 seconds RetCode: 0 Status: OK PackageFile: miaSim_1.15.1.tar.gz PackageFileSize: 392.5 KiB