Package: miaSim Version: 1.15.1 Command: /Library/Frameworks/R.framework/Resources/bin/R CMD INSTALL miaSim StartedAt: 2025-10-26 15:16:36 -0400 (Sun, 26 Oct 2025) EndedAt: 2025-10-26 15:16:48 -0400 (Sun, 26 Oct 2025) EllapsedTime: 12.1 seconds RetCode: 0 Status: OK