Package: miaSim Version: 1.15.1 Command: rm -rf miaSim.buildbin-libdir && mkdir miaSim.buildbin-libdir && /Users/biocbuild/BBS/utils/build-universal.sh miaSim_1.15.1.tar.gz /Library/Frameworks/R.framework/Resources/bin/R miaSim.buildbin-libdir StartedAt: 2025-10-26 22:40:58 -0400 (Sun, 26 Oct 2025) EndedAt: 2025-10-26 22:41:11 -0400 (Sun, 26 Oct 2025) EllapsedTime: 12.2 seconds RetCode: 0 Status: OK PackageFile: miaSim_1.15.1.tgz PackageFileSize: 483.8 KiB