Package: miaDash Version: 1.3.0 Command: /home/biocbuild/bbs-3.23-bioc/R/bin/R CMD INSTALL miaDash StartedAt: 2025-11-14 15:58:36 -0500 (Fri, 14 Nov 2025) EndedAt: 2025-11-14 15:59:20 -0500 (Fri, 14 Nov 2025) EllapsedTime: 43.9 seconds RetCode: 0 Status: OK