Package: miaDash Version: 1.3.0 Command: /Library/Frameworks/R.framework/Resources/bin/R CMD build --keep-empty-dirs --no-resave-data miaDash StartedAt: 2025-11-26 17:41:48 -0500 (Wed, 26 Nov 2025) EndedAt: 2025-11-26 17:43:07 -0500 (Wed, 26 Nov 2025) EllapsedTime: 78.9 seconds RetCode: 0 Status: OK PackageFile: miaDash_1.3.0.tar.gz PackageFileSize: 2.064 MiB