Package: miaDash Version: 1.3.0 Command: /Library/Frameworks/R.framework/Resources/bin/R CMD INSTALL miaDash StartedAt: 2025-11-26 15:31:18 -0500 (Wed, 26 Nov 2025) EndedAt: 2025-11-26 15:31:36 -0500 (Wed, 26 Nov 2025) EllapsedTime: 18.8 seconds RetCode: 0 Status: OK