Package: mia Version: 1.19.0 Command: /home/biocbuild/bbs-3.23-bioc/R/bin/R CMD INSTALL mia StartedAt: 2025-11-03 15:56:14 -0500 (Mon, 03 Nov 2025) EndedAt: 2025-11-03 15:57:21 -0500 (Mon, 03 Nov 2025) EllapsedTime: 66.4 seconds RetCode: 0 Status: OK