Package: miRspongeR Version: 2.15.0 Command: /home/biocbuild/bbs-3.23-bioc/R/bin/R CMD INSTALL miRspongeR StartedAt: 2025-11-14 15:50:30 -0500 (Fri, 14 Nov 2025) EndedAt: 2025-11-14 15:51:26 -0500 (Fri, 14 Nov 2025) EllapsedTime: 55.7 seconds RetCode: 0 Status: OK