Package: miRcomp Version: 1.41.0 Command: /home/biocbuild/bbs-3.23-bioc/R/bin/R CMD INSTALL miRcomp StartedAt: 2025-11-20 15:11:52 -0500 (Thu, 20 Nov 2025) EndedAt: 2025-11-20 15:11:56 -0500 (Thu, 20 Nov 2025) EllapsedTime: 3.4 seconds RetCode: 0 Status: OK