Package: miRcomp Version: 1.41.0 Command: /home/biocbuild/bbs-3.23-bioc/R/bin/R CMD build --keep-empty-dirs --no-resave-data miRcomp StartedAt: 2025-11-20 18:42:16 -0500 (Thu, 20 Nov 2025) EndedAt: 2025-11-20 18:42:52 -0500 (Thu, 20 Nov 2025) EllapsedTime: 36.1 seconds RetCode: 0 Status: OK PackageFile: miRcomp_1.41.0.tar.gz PackageFileSize: 4.052 MiB