Package: miRcomp Version: 1.40.0 Command: /Library/Frameworks/R.framework/Resources/bin/R CMD INSTALL miRcomp StartedAt: 2025-10-29 21:58:24 -0400 (Wed, 29 Oct 2025) EndedAt: 2025-10-29 21:58:31 -0400 (Wed, 29 Oct 2025) EllapsedTime: 7.3 seconds RetCode: 0 Status: OK