Package: miRcomp Version: 1.40.0 Command: /Library/Frameworks/R.framework/Resources/bin/R CMD build --keep-empty-dirs --no-resave-data miRcomp StartedAt: 2025-10-30 00:25:21 -0400 (Thu, 30 Oct 2025) EndedAt: 2025-10-30 00:26:02 -0400 (Thu, 30 Oct 2025) EllapsedTime: 41.3 seconds RetCode: 0 Status: OK PackageFile: miRcomp_1.40.0.tar.gz PackageFileSize: 3.056 MiB