Package: miRcomp Version: 1.40.0 Command: rm -rf miRcomp.buildbin-libdir && mkdir miRcomp.buildbin-libdir && /Users/biocbuild/BBS/utils/build-universal.sh miRcomp_1.40.0.tar.gz /Library/Frameworks/R.framework/Resources/bin/R miRcomp.buildbin-libdir StartedAt: 2025-10-30 08:25:36 -0400 (Thu, 30 Oct 2025) EndedAt: 2025-10-30 08:25:44 -0400 (Thu, 30 Oct 2025) EllapsedTime: 8.2 seconds RetCode: 0 Status: OK PackageFile: miRcomp_1.40.0.tgz PackageFileSize: 3.083 MiB