Package: miRcomp Version: 1.39.1 Command: /Library/Frameworks/R.framework/Resources/bin/R CMD INSTALL miRcomp StartedAt: 2025-10-07 15:06:54 -0400 (Tue, 07 Oct 2025) EndedAt: 2025-10-07 15:06:56 -0400 (Tue, 07 Oct 2025) EllapsedTime: 1.6 seconds RetCode: 0 Status: OK