Package: miRcomp Version: 1.39.1 Command: /Library/Frameworks/R.framework/Resources/bin/R CMD build --keep-empty-dirs --no-resave-data miRcomp StartedAt: 2025-10-06 17:03:05 -0400 (Mon, 06 Oct 2025) EndedAt: 2025-10-06 17:03:21 -0400 (Mon, 06 Oct 2025) EllapsedTime: 15.2 seconds RetCode: 0 Status: OK PackageFile: miRcomp_1.39.1.tar.gz PackageFileSize: 3.058 MiB