Package: miRcomp Version: 1.39.1 Command: rm -rf miRcomp.buildbin-libdir && mkdir miRcomp.buildbin-libdir && /Users/biocbuild/BBS/utils/build-universal.sh miRcomp_1.39.1.tar.gz /Library/Frameworks/R.framework/Resources/bin/R miRcomp.buildbin-libdir StartedAt: 2025-10-06 22:51:07 -0400 (Mon, 06 Oct 2025) EndedAt: 2025-10-06 22:51:10 -0400 (Mon, 06 Oct 2025) EllapsedTime: 3.1 seconds RetCode: 0 Status: OK PackageFile: miRcomp_1.39.1.tgz PackageFileSize: 3.083 MiB