Package: miRNAtap Version: 1.45.0 Command: /home/biocbuild/bbs-3.23-bioc/R/bin/R CMD build --keep-empty-dirs --no-resave-data miRNAtap StartedAt: 2025-11-07 18:38:19 -0500 (Fri, 07 Nov 2025) EndedAt: 2025-11-07 18:38:53 -0500 (Fri, 07 Nov 2025) EllapsedTime: 34.0 seconds RetCode: 0 Status: OK PackageFile: miRNAtap_1.45.0.tar.gz PackageFileSize: 223.8 KiB